BEGIN:VCALENDAR
VERSION:2.0
PRODID:-//Squarespace Inc/Squarespace 6//v6//EN
BEGIN:VEVENT
UID:5c5fa015eef1a13325d06921@squarespace.com
DTSTAMP:20190217T092145Z
DTSTART:20190223T070000Z
DTEND:20190223T110000Z
SUMMARY:Summer Community Dinner - Greek Theme
END:VEVENT
END:VCALENDAR
