BEGIN:VCALENDAR
VERSION:2.0
PRODID:-//Squarespace Inc/Squarespace 6//v6//EN
BEGIN:VEVENT
UID:5b4d528888251ba9e4b2f563@squarespace.com
DTSTAMP:20180717T022212Z
DTSTART:20180928T233000Z
DTEND:20180929T020000Z
SUMMARY:Shoreham Bushland and Road Reserves Working Bee
END:VEVENT
END:VCALENDAR
