BEGIN:VCALENDAR
VERSION:2.0
PRODID:-//Squarespace Inc/Squarespace 6//v6//EN
BEGIN:VEVENT
UID:5b4d50096d2a73aaf3de8e55@squarespace.com
DTSTAMP:20180717T021550Z
DTSTART:20180727T233000Z
DTEND:20180728T020000Z
SUMMARY:Shoreham Bushland and Road Reserves Working Bee
END:VEVENT
END:VCALENDAR
