BEGIN:VCALENDAR
VERSION:2.0
PRODID:-//Squarespace Inc/Squarespace 6//v6//EN
BEGIN:VEVENT
UID:5b1e35ac562fa722fbb8f786@squarespace.com
DTSTAMP:20180615T125044Z
DTSTART:20180623T083000Z
DTEND:20180623T120000Z
SUMMARY:WINTER COMMUNITY DINNER
END:VEVENT
END:VCALENDAR
