BEGIN:VCALENDAR
VERSION:2.0
PRODID:-//Squarespace Inc/Squarespace 6//v6//EN
BEGIN:VEVENT
UID:5b1e123d0e2e727080d9b72b@squarespace.com
DTSTAMP:20180717T020407Z
DTSTART:20180804T040000Z
DTEND:20180804T060000Z
SUMMARY:Inaugural General Meeting: The Cyril Young Memorial Chapel Associat
 ion
END:VEVENT
END:VCALENDAR
