BEGIN:VCALENDAR
VERSION:2.0
PRODID:-//Squarespace Inc/Squarespace 6//v6//EN
BEGIN:VEVENT
UID:5acc9a5a88251b5348a64d28@squarespace.com
DTSTAMP:20180410T110845Z
DTSTART:20180511T233000Z
DTEND:20180512T020000Z
SUMMARY:HOWARD STREET WALKING TRACK WORKING BEE
END:VEVENT
END:VCALENDAR
