BEGIN:VCALENDAR
VERSION:2.0
PRODID:-//Squarespace Inc/Squarespace 6//v6//EN
BEGIN:VEVENT
UID:5acdb093f950b79e584fe27c@squarespace.com
DTSTAMP:20180412T032354Z
DTSTART:20180422T010000Z
DTEND:20180422T030000Z
SUMMARY:Book Launch: "CHRISTIE" by Bill Clancy
END:VEVENT
END:VCALENDAR
