BEGIN:VCALENDAR
VERSION:2.0
PRODID:-//Squarespace Inc/Squarespace 6//v6//EN
BEGIN:VEVENT
UID:5ac6b9e06d2a7394c942d47f@squarespace.com
DTSTAMP:20180406T001628Z
DTSTART:20180421T000000Z
DTEND:20180421T020000Z
SUMMARY:Shoreham Village Common - Community Planting Day
END:VEVENT
END:VCALENDAR
