BEGIN:VCALENDAR
VERSION:2.0
PRODID:-//Squarespace Inc/Squarespace 6//v6//EN
BEGIN:VEVENT
UID:5aa87c86419202c4391e7532@squarespace.com
DTSTAMP:20180314T014244Z
DTSTART:20180414T043000Z
DTEND:20180414T060000Z
SUMMARY:Buxton Open Air Chapel - public meeting to kick-start "Friends" gro
 up
END:VEVENT
END:VCALENDAR
