BEGIN:VCALENDAR
VERSION:2.0
PRODID:-//Squarespace Inc/Squarespace 6//v6//EN
BEGIN:VEVENT
UID:5a8b97ad0d9297112d5fe247@squarespace.com
DTSTAMP:20180220T034426Z
DTSTART:20180324T073000Z
DTEND:20180324T110000Z
SUMMARY:Community Dinner 
END:VEVENT
END:VCALENDAR
