BEGIN:VCALENDAR
VERSION:2.0
PRODID:-//Squarespace Inc/Squarespace 6//v6//EN
BEGIN:VEVENT
UID:5a8b43ef08522933c2525540@squarespace.com
DTSTAMP:20180220T000150Z
DTSTART:20180323T223000Z
DTEND:20180324T010000Z
SUMMARY:Howard Street Walking Track Working Bee
END:VEVENT
END:VCALENDAR
