BEGIN:VCALENDAR
VERSION:2.0
PRODID:-//Squarespace Inc/Squarespace 6//v6//EN
BEGIN:VEVENT
UID:5bcc290615fcc0be3c56f29c@squarespace.com
DTSTAMP:20181021T074434Z
DTSTART:20181110T230000Z
DTEND:20181111T003000Z
SUMMARY:Remembrance Day at Shoreham
END:VEVENT
END:VCALENDAR
