BEGIN:VCALENDAR
VERSION:2.0
PRODID:-//Squarespace Inc/Squarespace 6//v6//EN
BEGIN:VEVENT
UID:5883ea97b3db2bdb92fbd21b@squarespace.com
DTSTAMP:20180901T002405Z
DTSTART:20180922T080000Z
DTEND:20180922T120000Z
SUMMARY:Spring Community Dinner
END:VEVENT
END:VCALENDAR
