BEGIN:VCALENDAR
VERSION:2.0
PRODID:-//Squarespace Inc/Squarespace 6//v6//EN
BEGIN:VEVENT
UID:58def057be65941eabff5311@squarespace.com
DTSTAMP:20180316T020634Z
DTSTART:20180401T000000Z
DTEND:20180401T013000Z
SUMMARY:Easter Egg Hunt & Discovery Tour ...
END:VEVENT
END:VCALENDAR
