BEGIN:VCALENDAR
VERSION:2.0
PRODID:-//Squarespace Inc/Squarespace 6//v6//EN
BEGIN:VEVENT
UID:58840c236b8f5b4ed6184c1e@squarespace.com
DTSTAMP:20190118T212257Z
DTSTART:20190131T233000Z
DTEND:20190201T003000Z
SUMMARY:Cuppa &amp\; Conversation
END:VEVENT
END:VCALENDAR
