BEGIN:VCALENDAR
VERSION:2.0
PRODID:-//Squarespace Inc/Squarespace 6//v6//EN
BEGIN:VEVENT
UID:5886fa6f17bffcae6603780c@squarespace.com
DTSTAMP:20181011T015116Z
DTSTART:20181206T233000Z
DTEND:20181207T003000Z
SUMMARY:Cuppa &amp\; Conversation
END:VEVENT
END:VCALENDAR
