BEGIN:VCALENDAR
VERSION:2.0
PRODID:-//Squarespace Inc/Squarespace 6//v6//EN
BEGIN:VEVENT
UID:59f19505010027d09b40c610@squarespace.com
DTSTAMP:20181001T014432Z
DTSTART:20181006T223000Z
DTEND:20181007T000000Z
SUMMARY:Shoreham Triangle Working Bee
END:VEVENT
END:VCALENDAR
